BEGIN:VCALENDAR
VERSION:2.0
PRODID:-//OKABA - ECPv6.15.20//NONSGML v1.0//EN
CALSCALE:GREGORIAN
METHOD:PUBLISH
X-ORIGINAL-URL:https://okaba.org/home
X-WR-CALDESC:Events for OKABA
REFRESH-INTERVAL;VALUE=DURATION:PT1H
X-Robots-Tag:noindex
X-PUBLISHED-TTL:PT1H
BEGIN:VTIMEZONE
TZID:America/Chicago
BEGIN:DAYLIGHT
TZOFFSETFROM:-0600
TZOFFSETTO:-0500
TZNAME:CDT
DTSTART:20240310T080000
END:DAYLIGHT
BEGIN:STANDARD
TZOFFSETFROM:-0500
TZOFFSETTO:-0600
TZNAME:CST
DTSTART:20241103T070000
END:STANDARD
BEGIN:DAYLIGHT
TZOFFSETFROM:-0600
TZOFFSETTO:-0500
TZNAME:CDT
DTSTART:20250309T080000
END:DAYLIGHT
BEGIN:STANDARD
TZOFFSETFROM:-0500
TZOFFSETTO:-0600
TZNAME:CST
DTSTART:20251102T070000
END:STANDARD
BEGIN:DAYLIGHT
TZOFFSETFROM:-0600
TZOFFSETTO:-0500
TZNAME:CDT
DTSTART:20260308T080000
END:DAYLIGHT
BEGIN:STANDARD
TZOFFSETFROM:-0500
TZOFFSETTO:-0600
TZNAME:CST
DTSTART:20261101T070000
END:STANDARD
END:VTIMEZONE
BEGIN:VEVENT
DTSTART;TZID=America/Chicago:20251002T080000
DTEND;TZID=America/Chicago:20251002T170000
DTSTAMP:20260422T173438
CREATED:20250901T204530Z
LAST-MODIFIED:20250901T204530Z
UID:3140-1759392000-1759424400@okaba.org
SUMMARY:Voting Ends
DESCRIPTION:
URL:https://okaba.org/home/event/voting-ends/
CATEGORIES:Board Meetings
END:VEVENT
BEGIN:VEVENT
DTSTART;TZID=America/Chicago:20251003T140000
DTEND;TZID=America/Chicago:20251003T170000
DTSTAMP:20260422T173438
CREATED:20250901T204831Z
LAST-MODIFIED:20250901T204913Z
UID:3144-1759500000-1759510800@okaba.org
SUMMARY:In-Person Board Meeting - Announce Election Results
DESCRIPTION:All Board Members Please Try To Make It \nMeeting to announce election results and set the calendar for 2026 \nHave any recommendations? Email to jstegner@okaba.org \n 
URL:https://okaba.org/home/event/in-person-members-meeting/
LOCATION:Bricktown Brewery\, 1 N Oklahoma Ave\, Oklahoma City\, 73104\, United States
CATEGORIES:Board Meetings,Member Only Events
END:VEVENT
BEGIN:VEVENT
DTSTART;TZID=America/Chicago:20251003T180000
DTEND;TZID=America/Chicago:20251003T200000
DTSTAMP:20260422T173438
CREATED:20250125T184626Z
LAST-MODIFIED:20250901T205039Z
UID:2416-1759514400-1759521600@okaba.org
SUMMARY:FREE Member Social Event with Oklahoma Legislators
DESCRIPTION:Rev Your Engines for a Night Out \nFriday\, Oct 3\, 6:00 – 8:00 PM \nJOIN US FOR AN EXCLUSIVE AUTO BODY EVENT \nConnect with fellow auto body professionals and enjoy a night of networking and fun at Bricktown Brewery in downtown OKC. \nEVENT DETAILS YOU DON’T WANT TO MISS \nGather with industry leaders\, share insights\, and learn about the latest trends. Enjoy delicious food and drinks while making valuable connections in the auto body community. \nCome have fun! Network!
URL:https://okaba.org/home/event/in-person-board-meeting-copy/
LOCATION:Bricktown Brewery\, 1 N Oklahoma Ave\, Oklahoma City\, 73104\, United States
CATEGORIES:Board Meetings,Member Only Events
END:VEVENT
BEGIN:VEVENT
DTSTART;TZID=America/Chicago:20251004T080000
DTEND;TZID=America/Chicago:20251004T160000
DTSTAMP:20260422T173438
CREATED:20250125T191622Z
LAST-MODIFIED:20250901T205343Z
UID:2435-1759564800-1759593600@okaba.org
SUMMARY:Mark Olson - CEO Vehicle Collision Experts LLC\, President Future Forensics
DESCRIPTION:MMFI … Unlocking the Law of Reciprocity \nEveryone craves the feeling of being valued – it’s a powerful\, universal desire. \nWhen people feel important\, they remember and return. Join us to learn how to uplift both employees and customers\, building a solid foundation for higher satisfaction\, lower turnover\, and lasting business success. \nWHY YOU DON’T WANT TO MISS THIS: \nWalk away with actionable tools to create stronger teams\, happier clients\, and a more successful business. \nThis is more than a session – it’s a game-changer for anyone looking to lead with purpose and impact. \nMembers $10\, Non-members $55.00\nBreakfast and Lunch Provided \nRegister here: https://brushfire.com/oklahomaautobodyassociation/okabaoct2025/594970 \nNot a member of OKABA yet? Get your 2025 membership 1/2 off!
URL:https://okaba.org/home/event/mark-olson-ceo-vehicle-collision-experts-llc-president-future-forensics/
CATEGORIES:Recruiting Event
END:VEVENT
BEGIN:VEVENT
DTSTART;TZID=America/Chicago:20251023T180000
DTEND;TZID=America/Chicago:20251023T200000
DTSTAMP:20260422T173438
CREATED:20250125T185344Z
LAST-MODIFIED:20251015T233507Z
UID:2428-1761242400-1761249600@okaba.org
SUMMARY:In-Person Learning Session /  Discussion Round Table Event at Francis Tuttle Rockwell Campus
DESCRIPTION:🚗 Attention Auto Body Shop Team Members! 🚗 \nGot questions or challenges? Join us for a Round Table Industry Discussion and connect with a diverse panel of shop owners who have been where you are. Whether you own a small shop\, a franchise\, or a classic restoration business\, this is your chance to gain valuable insights. \nDiscover what works and what doesn’t as our panel shares their real-world experiences. \nCome to our Q&A session  \nDon’t miss this opportunity to elevate your business with practical tips and industry wisdom! \nHave dinner with like-minded individuals and network with shop owners from across the state. \nPlease RSVP as we will be providing food and drinks. \nHosted by: Amanda Allen & Jeremy Crutcher \nhttps://brushfire.com/oklahomaautobodyassociation/roundtable2025/616163 \n  \n 
URL:https://okaba.org/home/event/in-person-learning-session-discussion-round-table-event-copy/
LOCATION:12777 N Rockwell Ave\, Oklahoma City\, 73142\, 12777 N Rockwell Ave\, Oklahoma City\, OK\, 73142\, United States
CATEGORIES:Free Recruiting Events,Recruiting Event
END:VEVENT
END:VCALENDAR