BEGIN:VCALENDAR
VERSION:2.0
PRODID:-//OKABA - ECPv6.15.20//NONSGML v1.0//EN
CALSCALE:GREGORIAN
METHOD:PUBLISH
X-ORIGINAL-URL:https://okaba.org/home
X-WR-CALDESC:Events for OKABA
REFRESH-INTERVAL;VALUE=DURATION:PT1H
X-Robots-Tag:noindex
X-PUBLISHED-TTL:PT1H
BEGIN:VTIMEZONE
TZID:America/Chicago
BEGIN:DAYLIGHT
TZOFFSETFROM:-0600
TZOFFSETTO:-0500
TZNAME:CDT
DTSTART:20250309T080000
END:DAYLIGHT
BEGIN:STANDARD
TZOFFSETFROM:-0500
TZOFFSETTO:-0600
TZNAME:CST
DTSTART:20251102T070000
END:STANDARD
BEGIN:DAYLIGHT
TZOFFSETFROM:-0600
TZOFFSETTO:-0500
TZNAME:CDT
DTSTART:20260308T080000
END:DAYLIGHT
BEGIN:STANDARD
TZOFFSETFROM:-0500
TZOFFSETTO:-0600
TZNAME:CST
DTSTART:20261101T070000
END:STANDARD
BEGIN:DAYLIGHT
TZOFFSETFROM:-0600
TZOFFSETTO:-0500
TZNAME:CDT
DTSTART:20270314T080000
END:DAYLIGHT
BEGIN:STANDARD
TZOFFSETFROM:-0500
TZOFFSETTO:-0600
TZNAME:CST
DTSTART:20271107T070000
END:STANDARD
END:VTIMEZONE
BEGIN:VEVENT
DTSTART;TZID=America/Chicago:20260819T160000
DTEND;TZID=America/Chicago:20260819T170000
DTSTAMP:20260422T142854
CREATED:20251004T164305Z
LAST-MODIFIED:20251004T164305Z
UID:3268-1787155200-1787158800@okaba.org
SUMMARY:Virtual Board Meeting (Link will be emailed)
DESCRIPTION:To ensure we have a comprehensive and productive planning discussion\, it would be greatly appreciated if all board members could attend. Your presence and input will be invaluable as we work together to shape our strategy moving forward.
URL:https://okaba.org/home/event/virtual-board-meeting-link-will-be-emailed-17/
CATEGORIES:Board Meetings
END:VEVENT
BEGIN:VEVENT
DTSTART;TZID=America/Chicago:20260822T090000
DTEND;TZID=America/Chicago:20260822T133000
DTSTAMP:20260422T142854
CREATED:20251004T184928Z
LAST-MODIFIED:20260417T190015Z
UID:3302-1787389200-1787405400@okaba.org
SUMMARY:Member Social Event - Shotgun Clay Shoot - Guthrie
DESCRIPTION:Top Gun Sponsorship $4\,000\n4 Shooters\, shells\, golf cart\, meals\, prominent recognition at event opening\, awesome shooter swag\, 2 mulligans per shooter\, business logo on 2 stations \n  \nFood Sponsorship $2\,500 (2 available)\nSocial media shout outs\, meal opening introduction\, verbal recognition during event\, custom banner featuring your logo \n  \nStation Sponsorship $2\,000\n4 Shooters\, shells\, golf cart\, meals\, recognition on event banner\, social media shout outs\, 1 mulligan per shooter\, business logo on 2 stations \n  \nSafety Man Eye Sponsorship\n250 safety glasses worn by shooters\, $1600 for logo-imprinted glasses or $1100 for non-logo \n  \nBeverage Sponsorship $1\,000 (2 available)\nIncludes social media shout-outs\, verbal recognition during event\, custom designed banner with your logo on beverage cart\, and logo-printed water bottles. \n  \nCart Sponsorship $1\,000 (2 available)\nIncludes social media shout-outs\, verbal recognition during event\, and your logo featured on all rented golf carts driven by shooters \n  \nScorecard & Print Sponsorship $500 (SOLD OUT)\nYour company logo printed on all stationary used at event \n  \nRaffle & Prize Sponsorship $500\nVerbal recognition during event\, printed company name/logo presented with prizes during event \n  \nSafety Man Ear Sponsorship $350\nShooter earplugs featuring your logo on the protective case \n  \nSingle Shooter $250\nIncludes shells and lunch \n  \nTeam Sponsor $1\,000\nSponsor a 4-person shooter team\, includes shells and lunch \n  \nRegister Now:\nSponsorship \n \n 
URL:https://okaba.org/home/event/member-social-event-shotgun-clay-shoot-guthrie/
LOCATION:Silverleaf Shotgun Sports\, 8513 S Douglas\, Guthrie\, OK\, 73044\, United States
CATEGORIES:Board Meetings,Member Only Events,Recruiting Event
END:VEVENT
END:VCALENDAR